BEGIN:VCALENDAR
VERSION:2.0
PRODID:-//Mahdollisuus lapselle ry - ECPv6.15.20//NONSGML v1.0//EN
CALSCALE:GREGORIAN
METHOD:PUBLISH
X-WR-CALNAME:Mahdollisuus lapselle ry
X-ORIGINAL-URL:https://www.malary.fi
X-WR-CALDESC:Tapahtumat Mahdollisuus lapselle ry
REFRESH-INTERVAL;VALUE=DURATION:PT1H
X-Robots-Tag:noindex
X-PUBLISHED-TTL:PT1H
BEGIN:VTIMEZONE
TZID:Europe/Helsinki
BEGIN:DAYLIGHT
TZOFFSETFROM:+0200
TZOFFSETTO:+0300
TZNAME:EEST
DTSTART:20250330T010000
END:DAYLIGHT
BEGIN:STANDARD
TZOFFSETFROM:+0300
TZOFFSETTO:+0200
TZNAME:EET
DTSTART:20251026T010000
END:STANDARD
BEGIN:DAYLIGHT
TZOFFSETFROM:+0200
TZOFFSETTO:+0300
TZNAME:EEST
DTSTART:20260329T010000
END:DAYLIGHT
BEGIN:STANDARD
TZOFFSETFROM:+0300
TZOFFSETTO:+0200
TZNAME:EET
DTSTART:20261025T010000
END:STANDARD
BEGIN:DAYLIGHT
TZOFFSETFROM:+0200
TZOFFSETTO:+0300
TZNAME:EEST
DTSTART:20270328T010000
END:DAYLIGHT
BEGIN:STANDARD
TZOFFSETFROM:+0300
TZOFFSETTO:+0200
TZNAME:EET
DTSTART:20271031T010000
END:STANDARD
END:VTIMEZONE
BEGIN:VEVENT
DTSTART;TZID=Europe/Helsinki:20260421T080000
DTEND;TZID=Europe/Helsinki:20260421T110000
DTSTAMP:20260421T013443
CREATED:20260408T111214Z
LAST-MODIFIED:20260409T095026Z
UID:23440-1776758400-1776769200@www.malary.fi
SUMMARY:Sote-järjestöjen mielenosoitus järjestöleikkauksia vastaan
DESCRIPTION:Tule mukaan osoittamaan tukesi sote-järjestöjen tärkeälle työlle\nSoste järjestää kaikille avoimen mielenosoituksen Helsingissä tiistaina 21.4 kello 8–11. Mielenosoituksella puolustetaan kansalaisyhteiskuntaa ja kaikkia niitä ihmisiä\, jotka saavat apua ja tukea sosiaali- ja terveysjärjestöiltä sekä vastustetaan uusia järjestöihin kohdistuvia leikkauksia. \nHallitus on jo päättänyt leikata sote-järjestöiltä 140 miljoonaa euroa valtionavustuksista. Kerrotaan yhdessä\, miksi järjestöjen rahoitus on yhteiskunnan kohtalonkysymys! \nTapahtumapäivä: tiistai 21.4.\nTapahtuma-aika: osallistua voit itselle sopivaan ajankohtaan kello 8–11 välisenä aikana.\nTapahtumapaikka: Alustava paikka tapahtumalle on Säätytalo Helsingin Kruunuhaassa\, mutta sijainti saattaa vielä muuttua. Mielenosoitus pidetään lähellä kehysriihen pitopaikkaa\, joka varmistuu myöhemmin.  \nMe osallistumme\, tule sinäkin kanssamme osoittamaan tukesi sote-järjestöjen tärkeälle työlle ja vaatimaan loppua hyvinvointileikkauksille! \nSeuraa päivityksiä Sosten tapahtumasivulla Facebookissa: Loppu hyvinvointileikkauksille! Sosiaali- ja terveysjärjestöjen mielenosoitus 21.4 \nLue lisää tapahtumasta osoitteesta: https://www.soste.fi/uutiset/loppu-hyvinvointileikkauksille-tule-mukaan-sote-jarjestojen-mielenosoitukseen-21-4/ \n  \n\nMahdollisuus lapselle ry on järjestö\, joka tarjoaa harrastuksia ja vapaa-ajan toimintaa erityistä tukea tarvitseville lapsille\, nuorille ja aikuisille sekä heidän tukijoukoilleen. \nSOSTE Suomen sosiaali ja terveys ry on valtakunnallinen kattojärjestö\, joka on jo yli 10 vuoden ajan koonnut yhteen yli 250 sosiaali- ja terveysalan järjestöä sekä useita kymmeniä muita yhteistyöjäsentahoja.
URL:https://www.malary.fi/event/soste-jarjestaa-avoimen-mielenosoituksen-helsingissa/
ATTACH;FMTTYPE=image/png:https://www.malary.fi/wp-content/uploads/2026/04/Soste-julkaisu-nettisivuille-1600-x-900-px.png
END:VEVENT
END:VCALENDAR