BEGIN:VCALENDAR
VERSION:2.0
PRODID:-//Mahdollisuus lapselle ry - ECPv6.15.20//NONSGML v1.0//EN
CALSCALE:GREGORIAN
METHOD:PUBLISH
X-WR-CALNAME:Mahdollisuus lapselle ry
X-ORIGINAL-URL:https://www.malary.fi
X-WR-CALDESC:Tapahtumat Mahdollisuus lapselle ry
REFRESH-INTERVAL;VALUE=DURATION:PT1H
X-Robots-Tag:noindex
X-PUBLISHED-TTL:PT1H
BEGIN:VTIMEZONE
TZID:Europe/Helsinki
BEGIN:DAYLIGHT
TZOFFSETFROM:+0200
TZOFFSETTO:+0300
TZNAME:EEST
DTSTART:20250330T010000
END:DAYLIGHT
BEGIN:STANDARD
TZOFFSETFROM:+0300
TZOFFSETTO:+0200
TZNAME:EET
DTSTART:20251026T010000
END:STANDARD
BEGIN:DAYLIGHT
TZOFFSETFROM:+0200
TZOFFSETTO:+0300
TZNAME:EEST
DTSTART:20260329T010000
END:DAYLIGHT
BEGIN:STANDARD
TZOFFSETFROM:+0300
TZOFFSETTO:+0200
TZNAME:EET
DTSTART:20261025T010000
END:STANDARD
BEGIN:DAYLIGHT
TZOFFSETFROM:+0200
TZOFFSETTO:+0300
TZNAME:EEST
DTSTART:20270328T010000
END:DAYLIGHT
BEGIN:STANDARD
TZOFFSETFROM:+0300
TZOFFSETTO:+0200
TZNAME:EET
DTSTART:20271031T010000
END:STANDARD
END:VTIMEZONE
BEGIN:VEVENT
DTSTART;TZID=Europe/Helsinki:20260425T100000
DTEND;TZID=Europe/Helsinki:20260425T130000
DTSTAMP:20260425T131837
CREATED:20251111T120817Z
LAST-MODIFIED:20260113T142201Z
UID:16396-1777111200-1777122000@www.malary.fi
SUMMARY:Kevät kurkkii kuusen takaa\, tervetuloa Perheiden luontokerhoon
DESCRIPTION:Kevät kurkkii kuusen takaa\, lähdetään yhdessä etsimään. Tervetuloa Perheiden luontokerhoon uudet ja vanhat kävijät lauantaina 25.4. kello 10-13! \nLuontokerho on koko perheen maksuton tapahtuma kerran kuussa lauantaisin. Tervetuloa tutkimaan ja ihmettelemään yhdessä luontoa ja sen moninaisuutta Uutelan ulkoilualueella. Uutelan kota on käytössämme\, ja vietämme siellä yhdessä eväshetken\, jossa on tarjolla pientä purtavaa. \nJoka kerralla on oma teemansa. Uutelan luonto tarjoaa paljon nähtävää ja luonto on aina erilainen. \nPuuhailemme luontoaiheisten asioiden parissa\, joihin voitte osallistua oman kiinnostuksenne ja aikataulunne mukaisesti. Voitte osallistua kaikkiin luontokerhotapaamisiin tai vain niille kerroille\, jotka teille sopivat. \nLuontokerhon vetäjinä toimivat luonto- ja eräopas Jouni Viitala sekä Kehitysvammatuki 57:n ja Mahdollisuus lapselle ry:n ohjaajat. Vastuu lapsista tapahtuman aikana on vanhemmilla. Luontokerho on tarkoitettu pääkaupunkiseudun perheille\, joissa on erityislapsi tai erityisnuori. Tervetulleita ovat myös täysi-ikäiset lapset yhdessä vanhemman kanssa. \nLaita jo kalenteriin kevään luontokerhopäivät  \nLa 24.1. Uutelan kota\nLa 28.2. Uutelan kota\nLa 28.3. Uutelan kota\nLa 25.4. Uutelan kota\nLa 6.6. Kivinokka\, esteetön luontopolku \nIlmoittaudu erikseen jokaisen kuukauden luontokerhoon Kehitysvammatuki 57:n tapahtumakalenterisivun kautta. Ilmoittaudu huhtikuun luontokerhoon 19.4. mennessä. Paikkoja on rajallinen määrä ja ne täytetään ilmoittautumisjärjestyksessä. \nIlmoittautuneet saavat sähköpostivahvistuksen ja saapumisohjeet pari päivää ennen tapahtumaa. \nLämpimästi tervetuloa mukaan uudet ja vanhat osallistujat! \n  \nLuontokerhon järjestävät yhteistyössä Mahdollisuus lapselle ry ja Kehitysvammatuki 57 ry.
URL:https://www.malary.fi/event/kevat-kurkkii-kuusen-takaa-perheiden-luontokerho/
LOCATION:Uutelan kota\, Särkkäniemi 5\, Helsinki\, Suomi
CATEGORIES:Tapahtuma
ATTACH;FMTTYPE=image/png:https://www.malary.fi/wp-content/uploads/2025/11/Luontokerho-kesa-LOGOT-tapkal.png
ORGANIZER;CN="Mahdollisuus lapselle ry":MAILTO:info@malary.fi
END:VEVENT
BEGIN:VEVENT
DTSTART;TZID=Europe/Helsinki:20260425T143000
DTEND;TZID=Europe/Helsinki:20260425T163000
DTSTAMP:20260425T131837
CREATED:20260305T140841Z
LAST-MODIFIED:20260305T140841Z
UID:22389-1777127400-1777134600@www.malary.fi
SUMMARY:Håkansbölen kartanon leikkipäivä 
DESCRIPTION:Tervetuloa juhlimaan MLL:n valtakunnallista Leikkipäivää!  \nTämän vuoden teemana on: Leikki arjen rentouttajana – Seis\, nyt leikitään\, Hallå\, nu leker vi.   \nAika: Lauantaina 25.4. klo 14.30 – 16.30\nPaikka: Håkansbölen kartanopuisto ja Lastenkulttuurikeskus Pyykkitupa\, Kartanontie 1\, 01200 Vantaa  \nOHJELMA\nUlkotiloissa:  \n\nklo 14.30 Chiro-lepakko esiintyy (n. 30 min) \nevästarjoilu: kahvia\, teetä\, mehua ja pientä välipalaa \nvesileikkipiste: leluja\, laivarata ja iso vesileikkipöytä. Henkilökunta opastaa ja valvoo käyttöä. (säävaraus)\npihapelejä: mölkky ja kroketti omatoimiseen käyttöön \npallohierontaa ja leikitään piknik-peitolla: pääset mukaan rentoon piknikleikkiin ja rentoutumiseen. Pienet ja isot pääsevät yhdessä kokeilemaan\, miten arjen tavarat muuttuvat leikkivälineiksi\, kun mielikuvitus pääsee vauhtiin. Leikin lomassa rentoudutaan luontoa aistien ja pallohieronnassa. (sateisella säällä toiminta Pyykkituvan leikkikammarissa) Muutamia piknik-peittoja on tarjolla\, mutta oma kannattaa ottaa mukaan. Leikeissä mukana kuvatuki.  \nlapsivanhempijooga \nhippaleikkejä\nPyykkituvassa: Herkkuarkkitehtuuria –paja \nMillainen portti johtaisi herkkupuistoon? Millaisia liukumäkiä\, torneja tai kiipeilytelineitä siellä olisi? Tehdään cocktail-tikkujen avulla syötävän hyviä rakennelmia lakuista\, rypäleistä\, karkeista ja herneistä. Pöytien ääreen mahtuu 23 henkilöä kerrallaan. Rakennelman teossa kestää n. 30 min. Ikäsuositus +3-v. \n\nTapahtuma sopii kaikille lapsille ja nuorille perheineen. Toimintaan voivat osallistua myös erityistä tukea tarvitsevat ja liikuntarajoitteiset lapset sekä nuoret. Lastenkulttuurikeskus Pyykkituvan tilat ovat esteettömät ja myös ulkona toteutettavat toiminnot soveltuvat kaikille. Lisätietoja Pyykkituvan saavutettavuudesta: vantaa.fi/lastenkulttuuri \nTapahtuma sopii hyvin erikielisille\, eikä osallistuminen edellytä suomen kielen osaamista. / Evenemanget lämpar sig för personer med olika språkbakgrund\, och det krävs inga kunskaper i finska. / The event is suitable for people with different languages\, and participation does not require Finnish language skills. \n\nHUOM. parkkipaikat sijaitsevat Vuorilehdontien ja Kartanontien kulmauksessa (myös LE-parkkipaikat) \nPyykkituvan vieressä yksi LE-parkkipaikka\nSuosittelemme saapumaan julkisilla\, pyörällä tai jalan \nTapahtuma ja evästarjoilu on maksuton.\nEi ennakkoilmoittautumista \nOta mukaan piknik-peitto ja säänmukaiset varusteet \nKouluikäiset voivat osallistua myös ilman omaa aikuista (huom. ei lastenhoitopalvelua)  \n\n\n\n\nTapahtuman järjestävät Vantaan lasten ja nuorten kulttuuripalvelut\, Vammaisten lasten ja nuorten tukisäätiö sr\, Hakunilan lasten ja perheiden yhteisötalo. Lisätiedot: info@malary.fi
URL:https://www.malary.fi/event/hakansbolen-kartanon-leikkipaiva/
LOCATION:Håkansbölen kartano\, Kartanontie 1\, Vantaa\, 01200
CATEGORIES:Tapahtuma
ATTACH;FMTTYPE=image/jpeg:https://www.malary.fi/wp-content/uploads/2026/03/Kuva-Pyry-Antero-Vantaan-kaupunginmuseo.jpeg
END:VEVENT
BEGIN:VEVENT
DTSTART;TZID=Europe/Helsinki:20260425T160000
DTEND;TZID=Europe/Helsinki:20260425T183000
DTSTAMP:20260425T131837
CREATED:20260114T151456Z
LAST-MODIFIED:20260114T155046Z
UID:19181-1777132800-1777141800@www.malary.fi
SUMMARY:Vappubileet Nuorten illassa
DESCRIPTION:Nuorten illassa on Vappubileet. Tule mukaan pitämään hauskaa! \nMahdollisuus lapselle ry:n Ilmaisun Huone järjestää kerran kuussa vapaamuotoisen ja maksuttoman Nuorten illan. Se on nuorten ja nuorten aikuisten oma paikka\, jossa oleskella\, napostella herkkuja ja tavata uusia ja vanhoja ystäviä. Voit hengailla rauhassa oman mielesi mukaan ja osallistua just sen verran kuin haluat. \nTervetuloa mukaan uudet ja tutut kävijät! \nAika: lauantai 25.4.\nKellonaika: 16.00-18.30\nPaikka: Mahdollisuus lapselle ry:n tilat\, Konalantie 47 B\, 2. kerros (hissi)\, Helsinki. \n\nNuorten iltoihin ovat tervetulleita kaikki erityistä tukea tarvitsevat nuoret ja nuoret aikuiset. Myös he\, jotka eivät käy meillä harrastamassa. Diagnooseja ei tarvita\, oma kokemus tuen tarpeesta riittää. Kokeneet ohjaajat ovat mukana tukemassa. \n\nTarkkaa ikärajaa ei ole\, Nuorten illoissa käy noin 16–30 -vuotiaita. Mukaan mahtuu noin 10–15 nuorta. Nuorten illat toteutuvat\, kun  osallistujia on vähintään neljä. Avustajat ovat tervetulleita tapahtumaan mukaan. \nTule mukaan kivaan porukkaan! Ilmoittaudu osoitteeseen info@malary.fi. \n\nLaita kalenteriisi jo nyt kevään kaikki Nuorten illat:\npe 23.1. Hengailuilta\npe 13.2. Ystävänpäivä\npe 13.3. Peli-ilta\nla 25.4. Vappubileet\npe 22.5. Toiveilta
URL:https://www.malary.fi/event/nuorten-illassa-on-vappubileet/
CATEGORIES:Tapahtuma
ATTACH;FMTTYPE=image/jpeg:https://www.malary.fi/wp-content/uploads/2026/01/Nuorten-illat-k26-IG-ja-tapkal-1600-x-1000-px.jpg
END:VEVENT
END:VCALENDAR