BEGIN:VCALENDAR
VERSION:2.0
PRODID:-//Mahdollisuus lapselle ry - ECPv6.15.20//NONSGML v1.0//EN
CALSCALE:GREGORIAN
METHOD:PUBLISH
X-WR-CALNAME:Mahdollisuus lapselle ry
X-ORIGINAL-URL:https://www.malary.fi
X-WR-CALDESC:Tapahtumat Mahdollisuus lapselle ry
REFRESH-INTERVAL;VALUE=DURATION:PT1H
X-Robots-Tag:noindex
X-PUBLISHED-TTL:PT1H
BEGIN:VTIMEZONE
TZID:Europe/Helsinki
BEGIN:DAYLIGHT
TZOFFSETFROM:+0200
TZOFFSETTO:+0300
TZNAME:EEST
DTSTART:20240331T010000
END:DAYLIGHT
BEGIN:STANDARD
TZOFFSETFROM:+0300
TZOFFSETTO:+0200
TZNAME:EET
DTSTART:20241027T010000
END:STANDARD
BEGIN:DAYLIGHT
TZOFFSETFROM:+0200
TZOFFSETTO:+0300
TZNAME:EEST
DTSTART:20250330T010000
END:DAYLIGHT
BEGIN:STANDARD
TZOFFSETFROM:+0300
TZOFFSETTO:+0200
TZNAME:EET
DTSTART:20251026T010000
END:STANDARD
BEGIN:DAYLIGHT
TZOFFSETFROM:+0200
TZOFFSETTO:+0300
TZNAME:EEST
DTSTART:20260329T010000
END:DAYLIGHT
BEGIN:STANDARD
TZOFFSETFROM:+0300
TZOFFSETTO:+0200
TZNAME:EET
DTSTART:20261025T010000
END:STANDARD
END:VTIMEZONE
BEGIN:VEVENT
DTSTART;TZID=Europe/Helsinki:20250602T080000
DTEND;TZID=Europe/Helsinki:20250606T160000
DTSTAMP:20260419T170248
CREATED:20250311T135736Z
LAST-MODIFIED:20250602T084402Z
UID:11468-1748851200-1749225600@www.malary.fi
SUMMARY:Malaryn kesäleiri erityistä tukea tarvitseville lapsille ja nuorille
DESCRIPTION:Malaryn kesäleiri erityistä tukea tarvitseville lapsille ja nuorille.  \nLuontoteemainen taideleiri n. 10-15-vuotiaille 2.-6.6.\nTule retkeilemään erilaisissa luontokohteissa. Pääset luomaan luonnosta inspiroituneena oman näköisiä taideteoksia. \nKenelle: noin 10-15-vuotiaille erityistä tukea tarvitseville lapsille ja nuorille. Diagnoosia tai lähetettä ei tarvita\, oma kokemus tuen tarpeesta riittää. \nHuom! Leirien ikärajoissa on jonkin verran liikkumavaraa. Jos mietit\, kumpi tämän kesän leireistä olisi teille sopivin\, laita viestiä info@malary.fi\, niin mietitään yhdessä. \n(Jos etsit kesäleiriä vanhemmalle nuorelle tai nuorelle aikuiselle\, kurkkaa Kaupunkileiri 16-vuotiaille ja sitä vanhemmille 9.-13.6. tästä linkistä.) \nPaikka: Kokoonnumme aamuisin toimitiloihimme Konalaan (Konalantie 47 B\, Helsinki). Päivä päättyy samaan osoitteeseen.\nAika: Ohjelma alkaa klo 9.00 ja loppuu klo 15.00. Paikalle voit tulla kuitenkin jo klo 8.00 eteenpäin\, ja haku on viimeistään klo 16.00.\nHinta: Leirin hinta on 230 €. Leirin hintaan kuuluvat bussiliput\, sisäänpääsymaksut retkikohteisiin\, ruokailut (lounas ja välipalat) ja tapaturmavakuutus. Avustajan ruokailut eivät sisälly leirimaksuun. \nSaat tarkemman aikataulun ja retkikohteet sähköpostitse toukokuun alussa. Leiriohjelmaan voi tulla muutoksia esimerkiksi huonon sään takia Liikumme leireillä julkisilla kulkuvälineillä. Jos leiriläinen tarvitsee jatkuvaa avustusta\, tulee leiriläisellä olla oma avustaja mukana. \nIlmoittautuminen on päättynyt. \n  \nPeruutukset:\nMikäli et pääsekään osallistumaan leirille\, peru ilmoittautuminen viimeistään 11.5.\, jotta voimme antaa paikan seuraavalle. Tällöin palautamme maksetun osallistumismaksun. Jos peruutus tapahtuu viimeistään 23.5.\, palautamme puolet maksusta. Tämän jälkeen peruuttaneille ilmoittautumismaksua ei palauteta.
URL:https://www.malary.fi/event/malaryn-kesaleiri-erityista-tukea-tarvitseville/
LOCATION:Mahdollisuus lapselle ry\, Konalantie 47 B\, 2. kerros\, Helsinki\, 00390\, Suomi
CATEGORIES:Tapahtuma
ATTACH;FMTTYPE=image/png:https://www.malary.fi/wp-content/uploads/2025/04/Malaryn-kesaleirit-valokuvilla-kasvoillaPAKATTU.png
END:VEVENT
END:VCALENDAR