BEGIN:VCALENDAR
VERSION:2.0
PRODID:-//Mahdollisuus lapselle ry - ECPv6.15.20//NONSGML v1.0//EN
CALSCALE:GREGORIAN
METHOD:PUBLISH
X-WR-CALNAME:Mahdollisuus lapselle ry
X-ORIGINAL-URL:https://www.malary.fi
X-WR-CALDESC:Tapahtumat Mahdollisuus lapselle ry
REFRESH-INTERVAL;VALUE=DURATION:PT1H
X-Robots-Tag:noindex
X-PUBLISHED-TTL:PT1H
BEGIN:VTIMEZONE
TZID:Europe/Helsinki
BEGIN:DAYLIGHT
TZOFFSETFROM:+0200
TZOFFSETTO:+0300
TZNAME:EEST
DTSTART:20240331T010000
END:DAYLIGHT
BEGIN:STANDARD
TZOFFSETFROM:+0300
TZOFFSETTO:+0200
TZNAME:EET
DTSTART:20241027T010000
END:STANDARD
BEGIN:DAYLIGHT
TZOFFSETFROM:+0200
TZOFFSETTO:+0300
TZNAME:EEST
DTSTART:20250330T010000
END:DAYLIGHT
BEGIN:STANDARD
TZOFFSETFROM:+0300
TZOFFSETTO:+0200
TZNAME:EET
DTSTART:20251026T010000
END:STANDARD
BEGIN:DAYLIGHT
TZOFFSETFROM:+0200
TZOFFSETTO:+0300
TZNAME:EEST
DTSTART:20260329T010000
END:DAYLIGHT
BEGIN:STANDARD
TZOFFSETFROM:+0300
TZOFFSETTO:+0200
TZNAME:EET
DTSTART:20261025T010000
END:STANDARD
END:VTIMEZONE
BEGIN:VEVENT
DTSTART;TZID=Europe/Helsinki:20250927T133000
DTEND;TZID=Europe/Helsinki:20250927T160000
DTSTAMP:20260423T010506
CREATED:20250414T134512Z
LAST-MODIFIED:20250926T080453Z
UID:12035-1758979800-1758988800@www.malary.fi
SUMMARY:Malaryn matka on saavutettava hyvän mielen liikuntatapahtuma
DESCRIPTION:Malaryn matka on saavutettava hyvän mielen liikuntatapahtuma erityistä tukea tarvitseville lapsille\, nuorille ja nuorille aikuisille läheisineen. \nTule haastamaan itseäsi matalan kynnyksen matkoilla oman kuntosi ja tyylisi mukaan kävellen\, hölkäten\, juosten tai pyörätuolilla kelaten. Vietämme yhdessä iloista ja liikunnallista iltapäivää Malaryn matkalla jo neljättä kertaa. Fiilis on aina ollut korkealla ja seuraavaa kertaa on jääty odottamaan innolla.  \nTästä linkistä pääset näkemään videolla aiemman vuoden kisatunnelmia. \nTapahtumapäivä alkaa yhteisellä alkulämmittelyllä. Lopuksi luvassa on palkintojen jako. Kaikille on tarjolla pientä kisaevästä. \nJuoksu-\, kävely- ja kelausmatkat: Valitse itsellesi mieluisa matka\, 1 kilometri\, 2.6 kilometriä tai 5 kilometriä. \nKatso reitit kartalla tästä. \nKenelle: Tervetulleita liikkumaan ovat erityistä tukea tarvitsevien lasten\, nuorten ja nuorten aikuisten lisäksi tukijoukot ja läheiset; perheet\, avustajat\, tukihenkilöt\, kaverit ja kaikki muut kiinnostuneet. Diagnooseja ei tarvita\, oma kokemus tuen tarpeesta riittää. \nKokemusta liikuntatapahtumista tai kestävyysliikunnasta ei tarvita. Jokainen liikkuu oman fiiliksensä mukaan. \nAika: lauantai 27.9.2025 kello 13.30-16.00\n \nPaikka: Kisaamme Malminkartanossa Mätäjoen maastossa. Reitit kulkevat tutussa kauniissa puistomaisemassa tasaisia hiekkateitä pitkin. Tapahtuman tukikohtana toimii Malminkartanon harrastushalli. Tule kisapäivänä Malminkartanon harrastushallille\, jossa on ilmoittautuminen ja yhteislähtö reiteille. \nTÄNÄ VUONNA MEILLÄ ON UUSI TUKIKOHTA: Malminkartanon harrastushalli\, Ruosilantie 18\, Helsinki.\nKäytössämme on hallin aulatila avokeittiöineen sekä wc-tilat. Aulatilassa voit säilyttää tavaroitasi valvotusti kisan ajan. Aulatilassa on kisaevästarjoilu kisan päätteeksi. Tilat ovat esteettömät. \nHinnat:18 €/osallistuja65 €/perhe\, kaveriporukka (4-5 henkilöä)Hinta sisältää kaksi tai enemmän läheisiä/avustajia. (maksimi 5 henkilöä)Kaikki osallistujat saavat Mahdollisuus lapselle -lippiksen omakseen. \nIlmoittaudu viimeistään torstaina 18.9. Pääset ilmoittautumislomakkeelle tästä linkistä. ILMOITTAUTUMINEN ON PÄÄTTYNYT.  Ilmoittautuneet saavat tarkemmat tiedot sähköpostiinsa tapahtumaviikolla. \nKysy meiltä lisätietoja osoitteesta: info@malary.fi. \nTervetuloa viettämään iloista ja liikunnallista iltapäivää yhdessä! \nMalaryn matka on osa Mahdollisuus lapselle ry:n Juoksukoulu-projektia. Juoksukoulu on Urlus-säätiön tukema projekti\, jossa tarjotaan tavoitteellisempaa\, kestävyyskuntoa kehittävää toimintaa erityisryhmille. \nJuoksukoulussa pääset treenaamaan hyvällä fiiliksellä kannustavassa porukassa. Juoksukoulu huipentuu Malaryn matkaan\, johon juoksukoululaiset voivat osallistua yhdessä. Lue juoksukoulusta lisää tästä!
URL:https://www.malary.fi/event/malaryn-matka-on-saavutettava-hyvanmielen-liikuntatapahtuma/
LOCATION:Malminkartanon harrastushalli\, Ruosilantie 18\, Helsinki\, 00390
CATEGORIES:Tapahtuma
ATTACH;FMTTYPE=image/png:https://www.malary.fi/wp-content/uploads/2025/04/Malarynmatka2025-tapahtumak.-vahemman-tekstiaPAKATTU.png
ORGANIZER;CN="Mahdollisuus lapselle ry":MAILTO:info@malary.fi
END:VEVENT
END:VCALENDAR