BEGIN:VCALENDAR
VERSION:2.0
PRODID:-//Mahdollisuus lapselle ry - ECPv6.15.20//NONSGML v1.0//EN
CALSCALE:GREGORIAN
METHOD:PUBLISH
X-ORIGINAL-URL:https://www.malary.fi
X-WR-CALDESC:Tapahtumat Mahdollisuus lapselle ry
REFRESH-INTERVAL;VALUE=DURATION:PT1H
X-Robots-Tag:noindex
X-PUBLISHED-TTL:PT1H
BEGIN:VTIMEZONE
TZID:Europe/Helsinki
BEGIN:DAYLIGHT
TZOFFSETFROM:+0200
TZOFFSETTO:+0300
TZNAME:EEST
DTSTART:20250330T010000
END:DAYLIGHT
BEGIN:STANDARD
TZOFFSETFROM:+0300
TZOFFSETTO:+0200
TZNAME:EET
DTSTART:20251026T010000
END:STANDARD
BEGIN:DAYLIGHT
TZOFFSETFROM:+0200
TZOFFSETTO:+0300
TZNAME:EEST
DTSTART:20260329T010000
END:DAYLIGHT
BEGIN:STANDARD
TZOFFSETFROM:+0300
TZOFFSETTO:+0200
TZNAME:EET
DTSTART:20261025T010000
END:STANDARD
BEGIN:DAYLIGHT
TZOFFSETFROM:+0200
TZOFFSETTO:+0300
TZNAME:EEST
DTSTART:20270328T010000
END:DAYLIGHT
BEGIN:STANDARD
TZOFFSETFROM:+0300
TZOFFSETTO:+0200
TZNAME:EET
DTSTART:20271031T010000
END:STANDARD
END:VTIMEZONE
BEGIN:VEVENT
DTSTART;TZID=Europe/Helsinki:20260508T163000
DTEND;TZID=Europe/Helsinki:20260509T153000
DTSTAMP:20260422T150503
CREATED:20260115T182014Z
LAST-MODIFIED:20260413T130039Z
UID:19275-1778257800-1778340600@www.malary.fi
SUMMARY:Brunssi-kurssi: Haluatko oppia valmistamaan herkullisen brunssin?
DESCRIPTION:Haluatko oppia herkullisia reseptejä ja helppoja kikkoja\, kuinka tehdä mukava ruokahetki viikonlopulle?\nYllätä äiti ihanalla brunssilla! Kahden päivän brunssikurssi nuorille aikuisille on sopivasti ennen äitienpäivää 8.-9.5. Tule oppimaan herkullisia reseptejä ja helppoja kikkoja tehdä itselle ja läheisille mukava ruokahetki viikonlopulle. Perjantaina valmistamme yhdessä tarjoiltavia\, ja lauantaina syömme valmistamamme brunssin. Saat kuvitetut ja selkosuomennetut ohjeet omaksi. \nBrunssi on aamiaisen ja lounaan yhdistelmä. Brunssikurssi on suunnattu erityistä tukea tarvitseville nuorille aikuisille\, jotka hyötyvät pienestä ryhmästä. Kokeneet ohjaajat auttavat ja tukevat. Et tarvitse diagnoosia\, oma kokemus tuen tarpeesta riittää. Tervetulleita ovat kaikki ilman kuntarajoja. \nAika: perjantaina ja lauantaina 8.-9.5.\n \nKellonaika: perjantaina kello 16.30-19.30 ja lauantaina kello 12.30-15.30\nHUOMAATHAN\, ETTÄ LAUANTAIN KELLONAIKA ON MUUTTUNUT!\n\nPaikka: Mahdollisuus lapselle ry:n oma\, tilava opetuskeittiö osoitteessa Konalantie 47 B\, Helsinki\, 2. kerros (hissi) \nKenelle: Erityistä tukea tarvitseville nuorille aikuisille\, ei tarkkoja ikärajoja. \nHinta: 55 € ei-jäsenille / 45 € jäsenhinta \nTervetuloa mukaan! Kysy meiltä lisää tai ilmoittaudu laittamalla sähköpostia: info@malary.fi. \n\nJos innostut kokkaamisesta\, kurkkaa meidän kokkisryhmät eri-ikäisille täältä.
URL:https://www.malary.fi/event/kahden-paivan-brunssikurssi-nuorille-aikuisille/
LOCATION:Mahdollisuus lapselle ry\, Konalantie 47 B\, 2. kerros\, Helsinki\, 00390\, Suomi
CATEGORIES:Tapahtuma
ATTACH;FMTTYPE=image/png:https://www.malary.fi/wp-content/uploads/2026/01/Brunssikurssi-k26-tapkal.png
END:VEVENT
END:VCALENDAR