BEGIN:VCALENDAR
VERSION:2.0
PRODID:-//Mahdollisuus lapselle ry - ECPv6.15.20//NONSGML v1.0//EN
CALSCALE:GREGORIAN
METHOD:PUBLISH
X-ORIGINAL-URL:https://www.malary.fi
X-WR-CALDESC:Tapahtumat Mahdollisuus lapselle ry
REFRESH-INTERVAL;VALUE=DURATION:PT1H
X-Robots-Tag:noindex
X-PUBLISHED-TTL:PT1H
BEGIN:VTIMEZONE
TZID:Europe/Helsinki
BEGIN:DAYLIGHT
TZOFFSETFROM:+0200
TZOFFSETTO:+0300
TZNAME:EEST
DTSTART:20240331T010000
END:DAYLIGHT
BEGIN:STANDARD
TZOFFSETFROM:+0300
TZOFFSETTO:+0200
TZNAME:EET
DTSTART:20241027T010000
END:STANDARD
BEGIN:DAYLIGHT
TZOFFSETFROM:+0200
TZOFFSETTO:+0300
TZNAME:EEST
DTSTART:20250330T010000
END:DAYLIGHT
BEGIN:STANDARD
TZOFFSETFROM:+0300
TZOFFSETTO:+0200
TZNAME:EET
DTSTART:20251026T010000
END:STANDARD
BEGIN:DAYLIGHT
TZOFFSETFROM:+0200
TZOFFSETTO:+0300
TZNAME:EEST
DTSTART:20260329T010000
END:DAYLIGHT
BEGIN:STANDARD
TZOFFSETFROM:+0300
TZOFFSETTO:+0200
TZNAME:EET
DTSTART:20261025T010000
END:STANDARD
END:VTIMEZONE
BEGIN:VEVENT
DTSTART;TZID=Europe/Helsinki:20250524T100000
DTEND;TZID=Europe/Helsinki:20250525T130000
DTSTAMP:20260423T091705
CREATED:20250117T123847Z
LAST-MODIFIED:20250519T095505Z
UID:11110-1748080800-1748178000@www.malary.fi
SUMMARY:Brunssiviikonloppu nuorille aikuisille 24.-25.5.
DESCRIPTION:Haluatko oppia herkullisia reseptejä ja helppoja kikkoja kuinka tehdä mukava ruokahetki viikonlopulle?\nBrunssiviikonloppu nuorille aikuisille 24.-25.5. Teemme yhdessä herkullisen brunssin lauantaina ja nautimme sen yhdessä sunnuntaina. \nBrunssi on aamiaisen ja lounaan yhdistelmä. Tällä lyhytkurssilla opit erilaisia reseptejä ja helppoja kikkoja tehdä itselle mukava ruokahetki viikonlopulle. Lauantaina valmistamme tarjoiltavia\, ja sunnuntaina syömme yhdessä valmistamamme brunssin. Kuvitetut ja selkosuomennetut ohjeet saat omaksi. \nBrunssikurssi on suunnattu erityistä tukea tarvitseville nuorille aikuisille\, jotka hyötyvät pienestä ryhmästä. Kokeneet ohjaajat auttavat ja tukevat yksilöllisesti. Et tarvitse diagnoosia\, oma kokemus tuen tarpeesta riittää. Tervetulleita ovat kaikki ilman kuntarajoja. \nAika: Kahden kerran lyhytkurssi yhtenä viikonloppuna\, lauantaina 24.5. ja sunnuntaina 25.5. Huomaathan\, että päivät ovat muuttuneet!\nKellonaika: 10.00-13.00\nPaikka: Mahdollisuus lapselle ry:n oma\, tilava opetuskeittiö osoitteessa Konalantie 47 B\, Helsinki\, 2. kerros (hissi)\nKenelle: Erityistä tukea tarvitseville nuorille aikuisille\, ei tarkkoja ikärajoja. \nHinta: 45 € / 35 € yhdistyksen jäsenille. \nBrunssiviikonloppu nuorille aikuisille on osa lyhytkurssivalikoimaamme. Lyhytkursseilla voit rauhassa kokeilla harrastamista. Lyhytkurssit kestävät 2-5 kertaa. Sinun ei tarvitse sitoutua koko kauteen. \nTervetuloa mukaan! Kysy meiltä lisää tai ilmoittaudu viimeistään perjantaina 16.5. laittamalla sähköpostia: info@malary.fi.
URL:https://www.malary.fi/event/brunssiviikonloppu/
CATEGORIES:Lyhytkurssi,Tapahtuma
ATTACH;FMTTYPE=image/jpeg:https://www.malary.fi/wp-content/uploads/2025/01/Kurssimainokset-25-Esitys-4.jpg
END:VEVENT
END:VCALENDAR