BEGIN:VCALENDAR
VERSION:2.0
PRODID:-//Mahdollisuus lapselle ry - ECPv6.15.20//NONSGML v1.0//EN
CALSCALE:GREGORIAN
METHOD:PUBLISH
X-ORIGINAL-URL:https://www.malary.fi
X-WR-CALDESC:Tapahtumat Mahdollisuus lapselle ry
REFRESH-INTERVAL;VALUE=DURATION:PT1H
X-Robots-Tag:noindex
X-PUBLISHED-TTL:PT1H
BEGIN:VTIMEZONE
TZID:Europe/Helsinki
BEGIN:DAYLIGHT
TZOFFSETFROM:+0200
TZOFFSETTO:+0300
TZNAME:EEST
DTSTART:20250330T010000
END:DAYLIGHT
BEGIN:STANDARD
TZOFFSETFROM:+0300
TZOFFSETTO:+0200
TZNAME:EET
DTSTART:20251026T010000
END:STANDARD
BEGIN:DAYLIGHT
TZOFFSETFROM:+0200
TZOFFSETTO:+0300
TZNAME:EEST
DTSTART:20260329T010000
END:DAYLIGHT
BEGIN:STANDARD
TZOFFSETFROM:+0300
TZOFFSETTO:+0200
TZNAME:EET
DTSTART:20261025T010000
END:STANDARD
BEGIN:DAYLIGHT
TZOFFSETFROM:+0200
TZOFFSETTO:+0300
TZNAME:EEST
DTSTART:20270328T010000
END:DAYLIGHT
BEGIN:STANDARD
TZOFFSETFROM:+0300
TZOFFSETTO:+0200
TZNAME:EET
DTSTART:20271031T010000
END:STANDARD
END:VTIMEZONE
BEGIN:VEVENT
DTSTART;TZID=Europe/Helsinki:20260926T133000
DTEND;TZID=Europe/Helsinki:20260926T160000
DTSTAMP:20260422T234117
CREATED:20260206T092339Z
LAST-MODIFIED:20260220T071237Z
UID:21473-1790429400-1790438400@www.malary.fi
SUMMARY:Malaryn matka 2026 on saavutettava hyvän mielen liikuntatapahtuma
DESCRIPTION:Malaryn matka erityistä tukea tarvitseville lapsille\, nuorille ja nuorille aikuisille tukijoukkoineen\nTule haastamaan itseäsi matalan kynnyksen matkoilla oman kuntosi ja tyylisi mukaan kävellen\, hölkäten\, juosten tai pyörätuolilla kelaten. Saavutettava hyvänmielen liikuntatapahtuma Malaryn matka 2026 on koko perheen ja kaikkien tukijoukkojen iloinen iltapäivä yhdessä. Vietämme tänä vuonna Malaryn matkaa jo viidettä kertaa. Fiilis on ollut korkealla ja seuraavaa kertaa on jääty odottamaan innolla.  \nTästä linkistä pääset näkemään videolla aiemman vuoden kisatunnelmia. \nTapahtumapäivä alkaa yhteisellä alkulämmittelyllä. Lopuksi luvassa on palkintojen jako. Kaikille on tarjolla kahvia\, teetä\, mehua ja pientä kisaevästä. \nJuoksu-\, kävely- ja kelausmatkat: Valitse itsellesi mieluisa matka\, 1 kilometri\, 2.6 kilometriä tai 5 kilometriä. Kaikkien reittien kartat tulevat tähän myöhemmin. \nKenelle: Tervetulleita liikkumaan ovat erityistä tukea tarvitsevien lasten\, nuorten ja aikuisten lisäksi tukijoukot ja läheiset; perheet\, avustajat\, tukihenkilöt\, kaverit. Ja ihan kaikki kiinnostuneet. Meillä ei tarvita diagnooseja\, oma kokemus tuen tarpeesta riittää. Kokemusta liikuntatapahtumista tai kestävyysliikunnasta ei tarvita. Jokainen liikkuu oman tyylinsä ja fiiliksensä mukaan. \nAika: lauantai 26.9.2026 iltapäivällä\, kellonajat päivitämme tänne pian.\n \nKokoonnumme tukikohdassamme Malminkartanon harrastushallilla\nPaikka: Kisaamme Malminkartanossa Mätäjoen maastossa tasaisia hiekkateitä pitkin. Kisareitit kulkevat aikaisemmilta vuosilta tutussa kauniissa puistomaisemassa. Tule kisapäivänä Malminkartanon harrastushallille Ruosilantie 18\, Helsinki. Siellä on ilmoittautuminen\, ja teemme sieltä yhteislähdön kisareiteille. \nViime vuonna löysimme uuden tilavan tukikohdan Malminkartanon harrastushallin\, jossa kokoonnumme aluksi ja vietämme aikaa kisan jälkeen. Hallin aulatilassa meillä on kisaevästarjoilu\, palkintojen jako ja rentoa yhdessäoloa kisan päätteeksi. Käytössämme on koko aulatila avokeittiöineen\, kahvilapöytiä\, tuoleja ja sohvia mukavaan oleskeluun sekä hallin wc-tilat. Aulatilassa voit säilyttää tavaroitasi valvotusti kisan ajan. Hallin tilat ovat esteettömät. Tutustu Malminkartanon harrastushalliin täällä. \nHinnat: päivitämme hinnat tähän!___  €/osallistuja___  €/perhe\, kaveriporukka (4-5 henkilöä)Kaveriporukan hinta sisältää kaksi tai enemmän läheisiä ja/tai avustajia (maksimi 5 henkilöä).\nMalaryn matkaan ilmoittaudutaan mukaan. Päivitämme ilmoittautumislinkin ja viimeisen ilmoittautumispäivän tähän. Kun olet ilmoittautunut\, saat tarkemmat tiedot tapahtumasta sähköpostiisi tapahtumaviikolla. \nKysy meiltä lisätietoja osoitteesta: info@malary.fi. \nTervetuloa viettämään iloista ja liikunnallista iltapäivää yhdessä!\n  \n\nMalaryn matka on osa Mahdollisuus lapselle ry:n Juoksukoulu-projektia. Juoksukoulu on Urlus-säätiön tukema projekti\, jossa tarjotaan tavoitteellisempaa\, kestävyyskuntoa kehittävää toimintaa erityisryhmille. \nJuoksukoulussa pääset treenaamaan hyvällä fiiliksellä kannustavassa porukassa. Juoksukoulu huipentuu Malaryn matkaan\, johon juoksukoululaiset voivat halutessaan osallistua yhdessä. Lue juoksukoulusta lisää tästä!
URL:https://www.malary.fi/event/saavutettava-liikuntatapahtuma-malaryn-matka/
LOCATION:Malminkartanon harrastushalli\, Ruosilantie 18\, Helsinki\, 00390
CATEGORIES:Tapahtuma
ATTACH;FMTTYPE=image/png:https://www.malary.fi/wp-content/uploads/2026/02/MalarynM-2026-tapkal.png
ORGANIZER;CN="Mahdollisuus lapselle ry":MAILTO:info@malary.fi
END:VEVENT
END:VCALENDAR